BEGIN:VCALENDAR
VERSION:2.0
PRODID:-//Shenzhen Institute of Advanced Technology, Chinese Academy of Sciences - ECPv5.9.0//NONSGML v1.0//EN
CALSCALE:GREGORIAN
METHOD:PUBLISH
X-WR-CALNAME:Shenzhen Institute of Advanced Technology, Chinese Academy of Sciences
X-ORIGINAL-URL:https://siat-sz.edu.cn
X-WR-CALDESC:Events for Shenzhen Institute of Advanced Technology, Chinese Academy of Sciences
BEGIN:VTIMEZONE
TZID:UTC
BEGIN:STANDARD
TZOFFSETFROM:+0000
TZOFFSETTO:+0000
TZNAME:UTC
DTSTART:2025-07-03 14:27:470101T000000
END:STANDARD
END:VTIMEZONE
BEGIN:VEVENT
DTSTART;TZID=UTC:20250703T062747
DTEND;TZID=UTC:DTSTAMP:20260426T004819Z
CREATED:20250627T142747Z
LAST-MODIFIED:20250702T102032Z
UID:5117AEC6-62AC-4FC6-B275-4437E763AC35@www.xaqj
SUMMARY:动态超分辨成像时代的活细胞化学荧光探针
DESCRIPTION:【报告人】：陈知行长聘副教授【主持人】：桂龙 特聘研究员【讲座主题】：动态超分辨成像时代的活细胞化学荧光探针【时间】：2025年7月3日（星期四）10:00-11:00【主会场】：卫光生命科学园1A座3楼报告厅【分会场】：深圳湾实验室A座4楼401会议
URL:https://www.szbl.ac.cn/info/1017/9231.htm
LOCATION:
ATTACH;FMTTYPE=image/jpeg:https://www.szbl.ac.cnnull
END:VEVENT
END:VCALENDAR