BEGIN:VCALENDAR
VERSION:2.0
PRODID:-//Shenzhen Institute of Advanced Technology, Chinese Academy of Sciences - ECPv5.9.0//NONSGML v1.0//EN
CALSCALE:GREGORIAN
METHOD:PUBLISH
X-WR-CALNAME:Shenzhen Institute of Advanced Technology, Chinese Academy of Sciences
X-ORIGINAL-URL:https://siat-sz.edu.cn
X-WR-CALDESC:Events for Shenzhen Institute of Advanced Technology, Chinese Academy of Sciences
BEGIN:VTIMEZONE
TZID:UTC
BEGIN:STANDARD
TZOFFSETFROM:+0000
TZOFFSETTO:+0000
TZNAME:UTC
DTSTART:2025-06-10 15:16:510101T000000
END:STANDARD
END:VTIMEZONE
BEGIN:VEVENT
DTSTART;TZID=UTC:20250610T071651
DTEND;TZID=UTC:DTSTAMP:20260424T002318Z
CREATED:20250605T151651Z
LAST-MODIFIED:20250605T151808Z
UID:83DF8010-5E7F-4F0F-9C62-9D2042F38450@www.xaqj
SUMMARY:从分子多样性演化到人工设计：天然产物生物合成的探索与应用
DESCRIPTION:【报 告 人】：张骊駻【主 题】：从分子多样性演化到人工设计：天然产物生物合成的探索与应用【时 间】：2025年6月10日(周二) 下午16:00-17:30【地 点】：高科创新中心B座1楼多媒体会议室【主 持 人】：唐啸宇特聘研究员【语 言】：中
URL:https://www.szbl.ac.cn/info/1017/9179.htm
LOCATION:
ATTACH;FMTTYPE=image/jpeg:https://www.szbl.ac.cnnull
END:VEVENT
END:VCALENDAR