BEGIN:VCALENDAR
VERSION:2.0
PRODID:-//Shenzhen Institute of Advanced Technology, Chinese Academy of Sciences - ECPv5.9.0//NONSGML v1.0//EN
CALSCALE:GREGORIAN
METHOD:PUBLISH
X-WR-CALNAME:Shenzhen Institute of Advanced Technology, Chinese Academy of Sciences
X-ORIGINAL-URL:https://siat-sz.edu.cn
X-WR-CALDESC:Events for Shenzhen Institute of Advanced Technology, Chinese Academy of Sciences
BEGIN:VTIMEZONE
TZID:UTC
BEGIN:STANDARD
TZOFFSETFROM:+0000
TZOFFSETTO:+0000
TZNAME:UTC
DTSTART:2024-12-07 14:20:190101T000000
END:STANDARD
END:VTIMEZONE
BEGIN:VEVENT
DTSTART;TZID=UTC:20241207T062019
DTEND;TZID=UTC:DTSTAMP:20260424T001541Z
CREATED:20230212T000000Z
LAST-MODIFIED:20241207T142019Z
UID:424BC54B-C975-4510-9B5A-069563217320@www.xaqj
SUMMARY:讲座信息 | Using Innovative Mass Spectrometry-based Technologies to Understand Biology.
DESCRIPTION:Using Innovative Mass Spectrometry-based Technologies to Understand Biology报告人：谭丹 博士时间：2月12日（周日）上午9:30-10:50会议形式：线上腾讯会议：275-860-096主持人：杨震（资深研究员）
URL:https://www.szbl.ac.cn/info/1017/8085.htm
LOCATION:
ATTACH;FMTTYPE=image/jpeg:https://www.szbl.ac.cnnull
END:VEVENT
END:VCALENDAR