BEGIN:VCALENDAR
VERSION:2.0
PRODID:-//Shenzhen Institute of Advanced Technology, Chinese Academy of Sciences - ECPv5.9.0//NONSGML v1.0//EN
CALSCALE:GREGORIAN
METHOD:PUBLISH
X-WR-CALNAME:Shenzhen Institute of Advanced Technology, Chinese Academy of Sciences
X-ORIGINAL-URL:https://siat-sz.edu.cn
X-WR-CALDESC:Events for Shenzhen Institute of Advanced Technology, Chinese Academy of Sciences
BEGIN:VTIMEZONE
TZID:UTC
BEGIN:STANDARD
TZOFFSETFROM:+0000
TZOFFSETTO:+0000
TZNAME:UTC
DTSTART:2024-12-07 14:16:400101T000000
END:STANDARD
END:VTIMEZONE
BEGIN:VEVENT
DTSTART;TZID=UTC:20241207T061640
DTEND;TZID=UTC:DTSTAMP:20260420T221848Z
CREATED:20241128T000000Z
LAST-MODIFIED:20241230T155922Z
UID:E86185B4-64FA-4A93-99EE-A3830BA02E25@www.xaqj
SUMMARY:基于GPU的列表模式全定量TOF PET图像重建
DESCRIPTION:报告人：江建勇 副教授会议主题： 基于GPU的列表模式全定量TOF PET图像重建主持人：顾峥（特聘研究员）会议时间：2024年11月28日(星期四) 10:00-12:00会议地点：高科B座1楼103会议室语言：中文
URL:https://www.szbl.ac.cn/info/1017/7864.htm
LOCATION:
ATTACH;FMTTYPE=image/jpeg:https://www.szbl.ac.cnnull
END:VEVENT
END:VCALENDAR